BEGIN:VCALENDAR
VERSION:2.0
PRODID:-//Kentucky Youth Advocates - ECPv6.15.18//NONSGML v1.0//EN
CALSCALE:GREGORIAN
METHOD:PUBLISH
X-ORIGINAL-URL:https://kyyouth.org
X-WR-CALDESC:Events for Kentucky Youth Advocates
REFRESH-INTERVAL;VALUE=DURATION:PT1H
X-Robots-Tag:noindex
X-PUBLISHED-TTL:PT1H
BEGIN:VTIMEZONE
TZID:America/Kentucky/Louisville
BEGIN:DAYLIGHT
TZOFFSETFROM:-0500
TZOFFSETTO:-0400
TZNAME:EDT
DTSTART:20240310T070000
END:DAYLIGHT
BEGIN:STANDARD
TZOFFSETFROM:-0400
TZOFFSETTO:-0500
TZNAME:EST
DTSTART:20241103T060000
END:STANDARD
BEGIN:DAYLIGHT
TZOFFSETFROM:-0500
TZOFFSETTO:-0400
TZNAME:EDT
DTSTART:20250309T070000
END:DAYLIGHT
BEGIN:STANDARD
TZOFFSETFROM:-0400
TZOFFSETTO:-0500
TZNAME:EST
DTSTART:20251102T060000
END:STANDARD
BEGIN:DAYLIGHT
TZOFFSETFROM:-0500
TZOFFSETTO:-0400
TZNAME:EDT
DTSTART:20260308T070000
END:DAYLIGHT
BEGIN:STANDARD
TZOFFSETFROM:-0400
TZOFFSETTO:-0500
TZNAME:EST
DTSTART:20261101T060000
END:STANDARD
BEGIN:DAYLIGHT
TZOFFSETFROM:-0500
TZOFFSETTO:-0400
TZNAME:EDT
DTSTART:20270314T070000
END:DAYLIGHT
BEGIN:STANDARD
TZOFFSETFROM:-0400
TZOFFSETTO:-0500
TZNAME:EST
DTSTART:20271107T060000
END:STANDARD
END:VTIMEZONE
BEGIN:VEVENT
DTSTART;TZID=America/Kentucky/Louisville:20251204T100000
DTEND;TZID=America/Kentucky/Louisville:20251204T140000
DTSTAMP:20260421T204418
CREATED:20251015T165540Z
LAST-MODIFIED:20251021T144906Z
UID:26282-1764842400-1764856800@kyyouth.org
SUMMARY:Blueprint for Kentucky's Children Partner Summit
DESCRIPTION:Join Kentucky Youth Advocates at the Blueprint for Kentucky’s Children Partner Summit! We will launch resources for the 2026 Blueprint policy priority agenda\, hear insights into the landscape for kids—both at the federal and state levels—and mobilize advocates for the 2026 legislative session. The goals of the summit are to inform partners about state policy and budget priorities and to equip them as key advocates for kids and families in Frankfort. \nThursday\, December 4\, 2025 @ 10:00 AM – 2:00 PM \nShelbyville Conference Center\, 219 7th St\, Shelbyville\, KY 40065 \nRegister Now!
URL:https://kyyouth.org/event/blueprint-for-kentuckys-children-partner-summit/
LOCATION:Shelbyville Conference Center\, 219 7th St\, Shelbyville\, KY\, 40065
END:VEVENT
BEGIN:VEVENT
DTSTART;TZID=America/Kentucky/Louisville:20251211T130000
DTEND;TZID=America/Kentucky/Louisville:20251211T140000
DTSTAMP:20260421T204418
CREATED:20251021T144700Z
LAST-MODIFIED:20251106T172819Z
UID:26321-1765458000-1765461600@kyyouth.org
SUMMARY:2025 Kentucky Kids Count Data Dashboard Webinar
DESCRIPTION:The 2025 Kentucky KIDS COUNT Data Dashboard launches on December 11th. It features the latest data on 16 measures of child well-being\, showing whether outcomes for children across the Commonwealth have improved\, worsened\, or stayed the same. Join Kentucky Youth Advocates for this webinar as we deep dive into the latest child well-being data in the Data Dashboard. The 2025 Kentucky KIDS COUNT Project was made possible with support from the Annie E. Casey Foundation and KIDS COUNT sponsors\, including Aetna® Better Health of Kentucky\, Kosair for Kids®\, and Kentucky United Methodist Children’s Homes. \nRegister Now!
URL:https://kyyouth.org/event/2025-kentucky-kids-count-data-dashboard-webinar/
LOCATION:Virtual Event
END:VEVENT
BEGIN:VEVENT
DTSTART;TZID=America/Kentucky/Louisville:20260120T140000
DTEND;TZID=America/Kentucky/Louisville:20260120T150000
DTSTAMP:20260421T204418
CREATED:20251204T165924Z
LAST-MODIFIED:20251204T165924Z
UID:26861-1768917600-1768921200@kyyouth.org
SUMMARY:Blueprint Webinar: KYGA26 Update and Lookahead
DESCRIPTION:Join Kentucky Youth Advocates as the policy team provides updates on the Blueprint for Kentucky’s Children priorities\, reflections on other bills\, including any budget bills\, and the impact on kids\, and a preview for Children’s Advocacy Week 2026. \nSign up for this informative and interactive webinar as we share tools to stay informed and speak up for kids during the 2026 state legislative session! \nTuesday\, January 20\, 2026 @ 2:00 PM ET- Via Zoom \nRegister Now
URL:https://kyyouth.org/event/blueprint-webinar-kyga26-update-and-lookahead/
LOCATION:Virtual Event
END:VEVENT
BEGIN:VEVENT
DTSTART;TZID=America/Kentucky/Louisville:20260302T140000
DTEND;TZID=America/Kentucky/Louisville:20260302T150000
DTSTAMP:20260421T204418
CREATED:20260127T194340Z
LAST-MODIFIED:20260127T194340Z
UID:27182-1772460000-1772463600@kyyouth.org
SUMMARY:Blueprint Webinar: Children’s Advocacy Week 2026 Kickoff
DESCRIPTION:  \nJoin Kentucky Youth Advocates as we kickoff Children’s Advocacy Week 2026! While Children’s Advocacy Day at the Capitol looks different this year\, there are still many ways that advocates for kids and families can take action in Frankfort and beyond. \nTune in as we provide reminders for speaking up for kids during Children’s Advocacy Week\, update on Blueprint for Kentucky’s Children priority bills and other bills that are good for kids\, and more. \nMonday\, March 2\, 2026 @ 2:00 PM\nVia zoom \nRegister Now!\n 
URL:https://kyyouth.org/event/blueprint-webinar-childrens-advocacy-week-2026-kickoff/
LOCATION:Virtual Event
END:VEVENT
BEGIN:VEVENT
DTSTART;TZID=America/Kentucky/Louisville:20260304T113000
DTEND;TZID=America/Kentucky/Louisville:20260304T130000
DTSTAMP:20260421T204418
CREATED:20260127T194808Z
LAST-MODIFIED:20260127T194915Z
UID:27188-1772623800-1772629200@kyyouth.org
SUMMARY:Policy and Play on Children's Advocacy Day
DESCRIPTION:  \nSerious issues don’t always require serious settings. Policy and Play brings legislators and advocates together through engaging\, policy-inspired games that open the door to conversation\, connection\, and fresh perspectives. In this relaxed\, interactive environment\, participants can explore complex policy ideas in approachable ways and hear directly from youth and advocates. No speeches required\, just meaningful dialogue\, shared learning\, and a chance to connect beyond the committee room. \nWednesday\, March 4\, 2026 11:30 AM – 1:00 PM ET\nCapitol Annex\, Room 129\n702 Capital Ave\, Frankfort\, KY 40601 \nRegister Now!
URL:https://kyyouth.org/event/policy-and-play-on-childrens-advocacy-day/
LOCATION:Capitol Annex\, Room 129\, 702 Capital Ave\, Frankfort\, KY\, 40601
END:VEVENT
END:VCALENDAR