BEGIN:VCALENDAR
VERSION:2.0
PRODID:-//Kentucky Youth Advocates - ECPv6.15.18//NONSGML v1.0//EN
CALSCALE:GREGORIAN
METHOD:PUBLISH
X-WR-CALNAME:Kentucky Youth Advocates
X-ORIGINAL-URL:https://kyyouth.org
X-WR-CALDESC:Events for Kentucky Youth Advocates
REFRESH-INTERVAL;VALUE=DURATION:PT1H
X-Robots-Tag:noindex
X-PUBLISHED-TTL:PT1H
BEGIN:VTIMEZONE
TZID:America/Kentucky/Louisville
BEGIN:DAYLIGHT
TZOFFSETFROM:-0500
TZOFFSETTO:-0400
TZNAME:EDT
DTSTART:20240310T070000
END:DAYLIGHT
BEGIN:STANDARD
TZOFFSETFROM:-0400
TZOFFSETTO:-0500
TZNAME:EST
DTSTART:20241103T060000
END:STANDARD
BEGIN:DAYLIGHT
TZOFFSETFROM:-0500
TZOFFSETTO:-0400
TZNAME:EDT
DTSTART:20250309T070000
END:DAYLIGHT
BEGIN:STANDARD
TZOFFSETFROM:-0400
TZOFFSETTO:-0500
TZNAME:EST
DTSTART:20251102T060000
END:STANDARD
BEGIN:DAYLIGHT
TZOFFSETFROM:-0500
TZOFFSETTO:-0400
TZNAME:EDT
DTSTART:20260308T070000
END:DAYLIGHT
BEGIN:STANDARD
TZOFFSETFROM:-0400
TZOFFSETTO:-0500
TZNAME:EST
DTSTART:20261101T060000
END:STANDARD
END:VTIMEZONE
BEGIN:VEVENT
DTSTART;TZID=America/Kentucky/Louisville:20251118T100000
DTEND;TZID=America/Kentucky/Louisville:20251118T110000
DTSTAMP:20260421T224629
CREATED:20251017T164710Z
LAST-MODIFIED:20251021T162018Z
UID:26310-1763460000-1763463600@kyyouth.org
SUMMARY:Cultivating Hope: KYOAAC’s Latest Funding Opportunities
DESCRIPTION:Join Bloom Kentucky for an informative session where KY Opioid Abatement Advisory Commission leaders and support staff will provide a comprehensive overview of the upcoming grant cycle. Learn about the funding priorities\, elgibility criteria\, key deadlines\, and information about the application process on funding opportunities\, important dates\, and the new application process. \nWhat You’ll Gain: \n\nInsight into how the opioid settlement funds are being invested across Kentucky.\nDetailed information on the two new NOFOs\nAn open Q&A session post-presentation\n\nRegister Now!
URL:https://kyyouth.org/event/cultivating-hope-kyoaacs-latest-funding-opportunities/
LOCATION:Virtual Event
END:VEVENT
BEGIN:VEVENT
DTSTART;TZID=America/Kentucky/Louisville:20251104T120000
DTEND;TZID=America/Kentucky/Louisville:20251104T130000
DTSTAMP:20260421T224629
CREATED:20251014T193650Z
LAST-MODIFIED:20251021T144958Z
UID:26267-1762257600-1762261200@kyyouth.org
SUMMARY:Kentucky Eviction Data Dashboard: Turning Insight Into Action
DESCRIPTION:Eviction is a critical issue impacting families and communities across Kentucky. To support more informed\, data-driven responses\, Kentucky Youth Advocates is launching the Kentucky Eviction Data Dashboard. This interactive tool visualizes eviction filings and trends across all counties in the state from 2022-2024. \nJoin us for an informative webinar to learn how this dashboard can be used by policymakers\, advocates\, researchers\, service providers\, and community members to better understand the scope and impact of eviction in Kentucky. \nRegister Now!
URL:https://kyyouth.org/event/kentucky-eviction-data-dashboard-turning-insight-into-action/
LOCATION:Virtual Event
END:VEVENT
BEGIN:VEVENT
DTSTART;TZID=America/Kentucky/Louisville:20250729T120000
DTEND;TZID=America/Kentucky/Louisville:20250729T130000
DTSTAMP:20260421T224629
CREATED:20250616T201607Z
LAST-MODIFIED:20250616T201656Z
UID:25461-1753790400-1753794000@kyyouth.org
SUMMARY:Blueprint Webinar: Effectively and Authentically Engaging Young People in Policy Change
DESCRIPTION:Tuesday\, July 29\, 2025 @ 12:00 PM ET\nVia Zoom \n\nJoin Kentucky Youth Advocates on Tuesday\, July 29th at 12:00 PM ET for a Blueprint Webinar ‘Effectively and Authentically Engaging Young People in Policy Change’.\n\n\n \n\n\nWebinar attendees will learn more about how to effectively and authentically engage young people within policy change. They will also hear from young people directly who have been impactful in sharing their stories at a local and statewide level.\n\n\n \n\n\nSign up for this informative and interactive webinar as we share tools to continue speaking up for kids during the interim and in preparation for the 2026 budget session.\n\nRegister Now
URL:https://kyyouth.org/event/blueprint-webinar-effectively-and-authentically-engaging-young-people-in-policy-change/
LOCATION:KY
END:VEVENT
BEGIN:VEVENT
DTSTART;TZID=America/Kentucky/Louisville:20250618T110000
DTEND;TZID=America/Kentucky/Louisville:20250618T120000
DTSTAMP:20260421T224629
CREATED:20250508T180746Z
LAST-MODIFIED:20250508T180857Z
UID:25113-1750244400-1750248000@kyyouth.org
SUMMARY:Webinar: The Economic Impact of Adverse Childhood Experiences in Kentucky
DESCRIPTION:  \n  \nJoin Bloom Kentucky for a webinar reviewing the findings from the Economic Impact of Adverse Childhood Experiences in Kentucky report. This webinar will discuss the prevalence of childhood adversity in our state\, highlight the staggering $295 million annual economic burden ACEs impose\, and offer strategies for fostering resilience and reducing the impact of adversity. \nRegister Now
URL:https://kyyouth.org/event/webinar-the-economic-impact-of-adverse-childhood-experiences-in-kentucky/
LOCATION:Virtual Event
END:VEVENT
BEGIN:VEVENT
DTSTART;TZID=America/Kentucky/Louisville:20250604T110000
DTEND;TZID=America/Kentucky/Louisville:20250604T120000
DTSTAMP:20260421T224629
CREATED:20250514T154004Z
LAST-MODIFIED:20250514T154407Z
UID:25179-1749034800-1749038400@kyyouth.org
SUMMARY:Webinar: Using Data to Leverage the Opioid Settlement Funds
DESCRIPTION:  \nJoin Kentucky Youth Advocates for a webinar on the Opioid Data Dashboard on Children and Families. This webinar is designed to familiarize community leaders\, local organizations\, and stakeholders with this tool for understanding local impact from the opioid epidemic and informing decisions about how to maximize county opioid settlement funds for the greatest impact for Kentucky communities. Lauren Carr\, Opioid Settlement Advisor with the Kentucky Association of Counties\, will be a guest speaker on the webinar to provide information on how counties are investing settlement funds and tips for engaging with local elected officials. \nDuring this webinar\, attendees will: \n\nGain an understanding of how the opioid epidemic has impacted children and families across Kentucky\nLearn how counties are using county-level opioid settlement funds and practical ideas for approaching local officials with ideas for leveraging those dollars\nSee how the Opioid Data Dashboard can be put to use to inform local decisions about how to invest funds\nHear tips on how to use the dashboard\, understand your community’s data\, and share with your local elected officials.\n\nRegister Now!
URL:https://kyyouth.org/event/webinar-using-data-to-leverage-the-opioid-settlement-funds/
LOCATION:Virtual Event
END:VEVENT
BEGIN:VEVENT
DTSTART;TZID=America/Kentucky/Louisville:20250520T100000
DTEND;TZID=America/Kentucky/Louisville:20250520T113000
DTSTAMP:20260421T224629
CREATED:20250429T201805Z
LAST-MODIFIED:20250429T201805Z
UID:24940-1747735200-1747740600@kyyouth.org
SUMMARY:Spring Grand Rounds: From Insight to Impact- Positive and Adverse Childhood Experiences and Substance Use
DESCRIPTION:Join the Bounce Coalition for an engaging Grand Rounds session focused on the intersection of Adverse Childhood Experiences (ACEs) and substance use prevention\, with a spotlight on school-based prevention models that support early intervention and resilience. This forum is designed to foster cross-sector collaboration\, deepen our understanding of trauma-informed practices\, and generate practical\, community-based solutions. \nDate and Time: May 20th\, 10-11:30am EST \nRegister Now
URL:https://kyyouth.org/event/spring-grand-rounds-from-insight-to-impact-positive-and-adverse-childhood-experiences-and-substance-use/
LOCATION:Virtual Event
END:VEVENT
BEGIN:VEVENT
DTSTART;TZID=America/Kentucky/Louisville:20250507T090000
DTEND;TZID=America/Kentucky/Louisville:20250507T160000
DTSTAMP:20260421T224629
CREATED:20250128T201808Z
LAST-MODIFIED:20250429T201938Z
UID:24020-1746608400-1746633600@kyyouth.org
SUMMARY:Bloom Summit: Together We Bloom
DESCRIPTION:This one-day event will focus on cultivating positive childhood experiences through both policy and systems change across the Commonwealth\, offering a unique platform to explore new strategies for fostering resilience and mitigating adverse childhood experiences (ACEs) in Kentucky’s children. \nThe summit brings together experts and change makers dedicated to the well-being of children. Participants will have the opportunity to engage with thought leaders\, gain insights into the latest research\, and network with peers committed to building a brighter future for Kentucky’s youth. \nRegister Now\nExhibitor applications are currently open\, apply now.
URL:https://kyyouth.org/event/bloom-summit-together-we-bloom/
LOCATION:Shelbyville Conference Center\, 219 7th St\, Shelbyville\, KY\, 40065
END:VEVENT
BEGIN:VEVENT
DTSTART;TZID=America/Kentucky/Louisville:20250429T110000
DTEND;TZID=America/Kentucky/Louisville:20250429T120000
DTSTAMP:20260421T224629
CREATED:20250407T175225Z
LAST-MODIFIED:20250407T175225Z
UID:24824-1745924400-1745928000@kyyouth.org
SUMMARY:Blueprint Webinar: Debriefing KYGA25 & Looking Ahead
DESCRIPTION:Tuesday\, April 29\, 2025 @ 11:00 AM ET\nVia Zoom \nThe General Assembly wrapped up the 2025 state legislative session on March 28th — and there were several moments of celebration for kids and families. During this webinar\, attendees will receive a debrief on the 2025 Blueprint for Kentucky’s Children policy priorities\, including wins\, losses\, and challenges\, and have an opportunity for Q&A. Attendees will also hear how to stay engaged and informed throughout the interim period so that kids’ issues remain at the forefront. \nJoin Kentucky Youth Advocates for this informative and interactive webinar as we share tools to continue speak up for kids following the 2025 legislative session! \nRegister Now
URL:https://kyyouth.org/event/blueprint-webinar-debriefing-kyga25-looking-ahead/
LOCATION:Virtual Event
END:VEVENT
BEGIN:VEVENT
DTSTART;TZID=America/Kentucky/Louisville:20250303T090000
DTEND;TZID=America/Kentucky/Louisville:20250307T170000
DTSTAMP:20260421T224629
CREATED:20250107T210731Z
LAST-MODIFIED:20250107T210731Z
UID:23880-1740992400-1741366800@kyyouth.org
SUMMARY:Children's Advocacy Week 2025
DESCRIPTION:For more than 20 years\, advocates for kids have gathered in Frankfort for Children’s Advocacy Day to fill the halls of the Capitol and ask their elected officials to step up for all Kentucky kids. The critical mass of advocates and youth in the Capitol building has led to many policy wins and raising awareness of issues facing kids and their families. As we’ve transitioned to Children’s Advocacy Week\, there are even more opportunities to connect with legislators and other advocates during the state legislative session. \nChildren’s Advocacy Week 2025 will be March 3-7th\, with the Day at the Capitol on Wednesday\, March 5th! \nLearn More\n  \n 
URL:https://kyyouth.org/event/childrens-advocacy-week-2025/
LOCATION:KY
END:VEVENT
BEGIN:VEVENT
DTSTART;TZID=America/Kentucky/Louisville:20250226T120000
DTEND;TZID=America/Kentucky/Louisville:20250226T130000
DTSTAMP:20260421T224629
CREATED:20250107T210100Z
LAST-MODIFIED:20250109T141025Z
UID:23875-1740571200-1740574800@kyyouth.org
SUMMARY:2025 Children's Advocacy Week Prep Webinar
DESCRIPTION:Join Kentucky Youth Advocates as we discuss how to prepare for Children’s Advocacy Week (March 3-7\, 2025)! This will include reminders about events during the week\, as well as\, provide updates on key policies for advocates to discuss with legislators. \nRegister Now\n 
URL:https://kyyouth.org/event/2025-childrens-advocacy-week-prep-webinar/
LOCATION:Virtual Event
END:VEVENT
BEGIN:VEVENT
DTSTART;TZID=America/Kentucky/Louisville:20250115T120000
DTEND;TZID=America/Kentucky/Louisville:20250115T130000
DTSTAMP:20260421T224629
CREATED:20250107T204655Z
LAST-MODIFIED:20250107T210820Z
UID:23869-1736942400-1736946000@kyyouth.org
SUMMARY:Blueprint Lunch & Learn
DESCRIPTION:The General Assembly reconvenes January 7th in Frankfort for the 2025 state legislative session — and there are lots of opportunities to advocate for kids and families. During this webinar\, attendees will receive advocacy resources\, tips for contacting legislators\, updates on the 2025 Blueprint for Kentucky’s Children policy priorities\, and reminders for Children’s Advocacy Week 2025 (March 3-7\, Day at the Capitol on March 5). \nJoin us for this informative and interactive Virtual Lunch & Learn with Kentucky Youth Advocates as we share tools to speak up for kids during the 2025 legislative session! \nRegister Now\n 
URL:https://kyyouth.org/event/blueprint-lunch-learn/
LOCATION:Virtual Event
END:VEVENT
END:VCALENDAR